BEGIN:VCALENDAR
VERSION:2.0
PRODID:-//Evenementielles - ECPv6.15.20//NONSGML v1.0//EN
CALSCALE:GREGORIAN
METHOD:PUBLISH
X-WR-CALNAME:Evenementielles
X-ORIGINAL-URL:https://evenementielles.fr
X-WR-CALDESC:Évènements pour Evenementielles
REFRESH-INTERVAL;VALUE=DURATION:PT1H
X-Robots-Tag:noindex
X-PUBLISHED-TTL:PT1H
BEGIN:VTIMEZONE
TZID:Europe/Paris
BEGIN:DAYLIGHT
TZOFFSETFROM:+0100
TZOFFSETTO:+0200
TZNAME:CEST
DTSTART:20230326T010000
END:DAYLIGHT
BEGIN:STANDARD
TZOFFSETFROM:+0200
TZOFFSETTO:+0100
TZNAME:CET
DTSTART:20231029T010000
END:STANDARD
BEGIN:DAYLIGHT
TZOFFSETFROM:+0100
TZOFFSETTO:+0200
TZNAME:CEST
DTSTART:20240331T010000
END:DAYLIGHT
BEGIN:STANDARD
TZOFFSETFROM:+0200
TZOFFSETTO:+0100
TZNAME:CET
DTSTART:20241027T010000
END:STANDARD
BEGIN:DAYLIGHT
TZOFFSETFROM:+0100
TZOFFSETTO:+0200
TZNAME:CEST
DTSTART:20250330T010000
END:DAYLIGHT
BEGIN:STANDARD
TZOFFSETFROM:+0200
TZOFFSETTO:+0100
TZNAME:CET
DTSTART:20251026T010000
END:STANDARD
END:VTIMEZONE
BEGIN:VEVENT
DTSTART;TZID=Europe/Paris:20240525T090000
DTEND;TZID=Europe/Paris:20240525T163000
DTSTAMP:20260422T123612
CREATED:20240415T150116Z
LAST-MODIFIED:20240415T150531Z
UID:32456-1716627600-1716654600@evenementielles.fr
SUMMARY:Thairy Saint Julien en Genevois 74160. Les Méssagères
DESCRIPTION:évènement: Les Messagères\nAdresse : Salle de L’Eveil – Thairy Saint Julien en Genevois 74160 France\nDate : 25.05.2024\nHeure : 9h00 à 16h30\nType : Journée\nTarifs libre\nContact : Sylvie // sylvie.bisseron@sfr.fr // www.messageres.com   \nDétails supplémentaires :\nRencontre de femmes en Haute-Savoie. Deuxième conférence de l’année autour du thème « Vivre le Royaume ».\nEnseignement\, partages\, prières\, tu peux nous rejoindre pour vivre un temps de ressourcement spirituel.\nHoraires : 9h00 – 16h30 — Repas tiré du sac.\nEntrée libre
URL:https://evenementielles.fr/evenements/saint-julien-en-genevois-74160-les-messageres/
CATEGORIES:01 Auvergne Rhône Alpes
ATTACH;FMTTYPE=image/jpeg:https://evenementielles.fr/wp-content/uploads/2024/04/Flyer-Messageres-25.05.24.jpg
END:VEVENT
BEGIN:VEVENT
DTSTART;TZID=Europe/Paris:20240420T100000
DTEND;TZID=Europe/Paris:20240420T170000
DTSTAMP:20260422T123612
CREATED:20240316T063824Z
LAST-MODIFIED:20240316T064439Z
UID:32224-1713607200-1713632400@evenementielles.fr
SUMMARY:RIVE DE GIER . Sème aujourd'hui pour récolter demain !
DESCRIPTION:évènement: Séminaire pour Femmes : Sème aujourd’hui pour récolter demain !\nAdresse : Église Espoir  14 A rue Maxime Gorki 42800 RIVE DE GIER France\nDate : 20 avril 2024\nHeure : 10h00\nType : Journée\nTarifs 10€\nContact : Carole RIBO // femmesdeparole@gmail.com // https://www.helloasso.com/associations/association-femmes-de-parole/evenements/seme-aujourd-hui-pour-recolter-demain \nDétails supplémentaires :\nL’association Femmes de Parole\, en collaboration avec l’église Espoir de Rive de Gier organise son 4e séminaire dédié aux femmes chrétiennes : « Sème aujourd’hui pour récolter demain ». Celui-ci aura lieu le samedi 20 avril de 09h30 à 18h30 dans les locaux de l’église Espoir : 14 rue Maxime Gorki\, 42800 Rive-de-Gier. \nToutes les infos sur :\n– la page Facebook : RDV femmes de parole\n– la page Instagram : @rdv_femmesdeparole\nou par mail : femmesdeparole@gmail.com
URL:https://evenementielles.fr/evenements/rive-de-gier-seme-aujourdhui-pour-recolter-demain/
CATEGORIES:01 Auvergne Rhône Alpes
END:VEVENT
BEGIN:VEVENT
DTSTART;TZID=Europe/Paris:20240410T193000
DTEND;TZID=Europe/Paris:20240411T220000
DTSTAMP:20260422T123612
CREATED:20240212T162226Z
LAST-MODIFIED:20240212T162439Z
UID:31928-1712777400-1712872800@evenementielles.fr
SUMMARY:Annecy. Déborah Night.
DESCRIPTION:hévènement: Déborah night\nAdresse : 1 Avenue Germain Perréard Cran-Gevrier France\nDate : 10 Avril 2024.\nHeure : 19h30\nType : Soirée\nTarifs Gratuit\nContact : Gospelles // wordpress@gospelles.fr // Gospelles.fr \nDétails supplémentaires :\nÉvénement en présentiel et en ligne
URL:https://evenementielles.fr/evenements/annecy-deborah-night/
CATEGORIES:01 Auvergne Rhône Alpes
END:VEVENT
BEGIN:VEVENT
DTSTART;TZID=Europe/Paris:20240217T090000
DTEND;TZID=Europe/Paris:20240217T170000
DTSTAMP:20260422T123612
CREATED:20240112T070008Z
LAST-MODIFIED:20240112T070307Z
UID:30930-1708160400-1708189200@evenementielles.fr
SUMMARY:Avignon. Les Etinc'Elles
DESCRIPTION:évènement: Conférence les Etinc’Elles :  » Se comprendre en tant que femme  » HORMONES & ÉMOTIONS\nAdresse : Eglise CEP 74 avenue des Sources 84000 Avignon France\nDate : Samedi 17 février\nHeure : 9h00 -17h00\nType : Journée\nTarifs 5 euros\nContact : Les Etinc’Elles // contact@sourcesdevie.net // https://www.billetweb.fr/conférence-etincelles
URL:https://evenementielles.fr/evenements/avignon-les-etincelles/
CATEGORIES:01 Auvergne Rhône Alpes
ATTACH;FMTTYPE=image/png:https://evenementielles.fr/wp-content/uploads/2024/01/samedi-17-fevrier-9h00-17h00.png
END:VEVENT
BEGIN:VEVENT
DTSTART;TZID=Europe/Paris:20240214T193000
DTEND;TZID=Europe/Paris:20240215T220000
DTSTAMP:20260422T123612
CREATED:20230926T044929Z
LAST-MODIFIED:20231221T114302Z
UID:30085-1707939000-1708034400@evenementielles.fr
SUMMARY:Annecy. Déborah Night.
DESCRIPTION:hévènement: Déborah night\nAdresse : 1 Avenue Germain Perréard Cran-Gevrier France\nDate : 18 Octobre 2023. 13 décembre 2023. 14 Février 2024. 10 Avril 2024. 14 Juin 2024.\nHeure : 19h30\nType : Soirée\nTarifs Gratuit\nContact : Gospelles // wordpress@gospelles.fr // Gospelles.fr \nDétails supplémentaires :\nÉvénement en présentiel et en ligne
URL:https://evenementielles.fr/evenements/deborah-nigth/
CATEGORIES:01 Auvergne Rhône Alpes
END:VEVENT
BEGIN:VEVENT
DTSTART;TZID=Europe/Paris:20240211T130000
DTEND;TZID=Europe/Paris:20240211T180000
DTSTAMP:20260422T123612
CREATED:20240201T154040Z
LAST-MODIFIED:20240201T154040Z
UID:31128-1707656400-1707674400@evenementielles.fr
SUMMARY:GRENOBLE. Atelier Lydie.
DESCRIPTION:évènement: Atelier Lydie : Prier avec la Bible pour des vies transformées\nAdresse : 9 rue Edmond Rostand grenoble\nDate : 11 février\nHeure : 13h – 18h\nType : Autre\nTarifs 10€ participation suggéréé\nContact : Fuin Jeannine // mvt.lydie.france@gmail.com // lydiafellowship.org \nDétails supplémentaires :\nAtelier sur un dimanche après-midi pour se laisser surprendre par larichesse et la puissance de la prière avec le texte biblique. Aussi pour toutes celles qui peuvent ne pas être disponibles le samedi.
URL:https://evenementielles.fr/evenements/grenoble-atelier-lydie/
CATEGORIES:01 Auvergne Rhône Alpes
END:VEVENT
END:VCALENDAR