BEGIN:VCALENDAR
VERSION:2.0
PRODID:-//Evenementielles - ECPv6.15.20//NONSGML v1.0//EN
CALSCALE:GREGORIAN
METHOD:PUBLISH
X-ORIGINAL-URL:https://evenementielles.fr
X-WR-CALDESC:Évènements pour Evenementielles
REFRESH-INTERVAL;VALUE=DURATION:PT1H
X-Robots-Tag:noindex
X-PUBLISHED-TTL:PT1H
BEGIN:VTIMEZONE
TZID:Europe/Paris
BEGIN:DAYLIGHT
TZOFFSETFROM:+0100
TZOFFSETTO:+0200
TZNAME:CEST
DTSTART:20240331T010000
END:DAYLIGHT
BEGIN:STANDARD
TZOFFSETFROM:+0200
TZOFFSETTO:+0100
TZNAME:CET
DTSTART:20241027T010000
END:STANDARD
BEGIN:DAYLIGHT
TZOFFSETFROM:+0100
TZOFFSETTO:+0200
TZNAME:CEST
DTSTART:20250330T010000
END:DAYLIGHT
BEGIN:STANDARD
TZOFFSETFROM:+0200
TZOFFSETTO:+0100
TZNAME:CET
DTSTART:20251026T010000
END:STANDARD
BEGIN:DAYLIGHT
TZOFFSETFROM:+0100
TZOFFSETTO:+0200
TZNAME:CEST
DTSTART:20260329T010000
END:DAYLIGHT
BEGIN:STANDARD
TZOFFSETFROM:+0200
TZOFFSETTO:+0100
TZNAME:CET
DTSTART:20261025T010000
END:STANDARD
END:VTIMEZONE
BEGIN:VEVENT
DTSTART;TZID=Europe/Paris:20251011T100000
DTEND;TZID=Europe/Paris:20251011T170000
DTSTAMP:20260422T162915
CREATED:20241029T152550Z
LAST-MODIFIED:20251001T053556Z
UID:33933-1760176800-1760202000@evenementielles.fr
SUMMARY:Rive de Gier. Rencontre Régionale Evénementi'Elles
DESCRIPTION:Rencontre avec Evénementi’elles et le groupe de femmes de Rive de Gier.\n\nLe thème : Etre libre en Christ !\n\nNous aurons la joie d’accueillir nos soeurs Justine Robichaud de l’église Paris Bastille et Azadeh Guguen de l’Église du Colombier à Carrières sur Seine.\n\nLieu : Église Espoir  14 A rue Maxime Gorki 42800 RIVE DE GIER France\n\nJournée : de 10h à 17h.\n\nRepas tiré du sac.\n\nInscription : 10 € sur place ou en cliquant sur le lien qui suit. : Rive De Gier/etre-libre-en-christ\n\nNombre de places: 230. De préférence inscrivez-vous sur le site.\n\nRepas tiré du sac ou restauration à proximité.\n\nPour vous garer 🚗(Gratuit\, sans durée\, Place PMR)\n\n*Place de libération / 🧍3 min à Pied\n\n*Square Marcel Paul /🧍6 min à Pied\n\nD’autres informations à venir.\n\nRetenez cette date dans votre agenda !!!
URL:https://evenementielles.fr/evenements/evenementielles-rive-de-gier-2/
CATEGORIES:01 Auvergne Rhône Alpes,RENCONTRES Evenementielles
ATTACH;FMTTYPE=image/png:https://evenementielles.fr/wp-content/uploads/2024/10/Affiche-rive-de-gier-1.png
END:VEVENT
END:VCALENDAR