BEGIN:VCALENDAR
VERSION:2.0
PRODID:-//Evenementielles - ECPv6.15.20//NONSGML v1.0//EN
CALSCALE:GREGORIAN
METHOD:PUBLISH
X-ORIGINAL-URL:https://evenementielles.fr
X-WR-CALDESC:Évènements pour Evenementielles
REFRESH-INTERVAL;VALUE=DURATION:PT1H
X-Robots-Tag:noindex
X-PUBLISHED-TTL:PT1H
BEGIN:VTIMEZONE
TZID:Europe/Paris
BEGIN:DAYLIGHT
TZOFFSETFROM:+0100
TZOFFSETTO:+0200
TZNAME:CEST
DTSTART:20250330T010000
END:DAYLIGHT
BEGIN:STANDARD
TZOFFSETFROM:+0200
TZOFFSETTO:+0100
TZNAME:CET
DTSTART:20251026T010000
END:STANDARD
BEGIN:DAYLIGHT
TZOFFSETFROM:+0100
TZOFFSETTO:+0200
TZNAME:CEST
DTSTART:20260329T010000
END:DAYLIGHT
BEGIN:STANDARD
TZOFFSETFROM:+0200
TZOFFSETTO:+0100
TZNAME:CET
DTSTART:20261025T010000
END:STANDARD
BEGIN:DAYLIGHT
TZOFFSETFROM:+0100
TZOFFSETTO:+0200
TZNAME:CEST
DTSTART:20270328T010000
END:DAYLIGHT
BEGIN:STANDARD
TZOFFSETFROM:+0200
TZOFFSETTO:+0100
TZNAME:CET
DTSTART:20271031T010000
END:STANDARD
END:VTIMEZONE
BEGIN:VEVENT
DTSTART;TZID=Europe/Paris:20261024T100000
DTEND;TZID=Europe/Paris:20261025T153000
DTSTAMP:20260422T084303
CREATED:20250523T111503Z
LAST-MODIFIED:20260306T081254Z
UID:36352-1792836000-1792942200@evenementielles.fr
SUMMARY:ENTR'ELLES 26 !!!! Zénith Clermont-Ferrand !!
DESCRIPTION:  \n\n\n\nPréparez vous !!!!!\nENTR’ELLES 26 \nZénith de Clermont-Ferrand \n 24 et 25 octobre 2026.\n  \nPERSÉVÈRE\n  \nAttendez-vous à vivre des moments extraordinaires dans la présence de Dieu. Nous aurons des oratrices de plusieurs continents !!! \n  \nStéphanie Reader du Québec \n  \nVictoria Griffin des Etats-Unis \n  \nNathalie Cazal de Guadeloupe  \n  \nUn groupe de louange pétillant de joie et d’enthousiasme !! \n  \nDes surprises !!!\n  \nRappelez-vous !! Nous étions plus de 2000 femmes et il suffit d’emmener une seule personne et nous serons 4000 à louer DIEU !!!!! Un challenge que nous voulons toutes remporter . \nRetenez dans votre agenda : Les 24 et 25 octobre 2026. \nUne carte géographique  est à votre disposition pour voir les points d’accueil et de renseignements. D’autres villes vont se rajouter. Veuillez réactualiser la page si vous ne la voyez pas. \n  \nInscription : EntrELLES 26 Persévère\n  \nRenseignements pour la Belgique : Ambassadrice (Responsable) Dina Bokoko. dinabokoko@gmail.com \nRenseignement pour la Suisse : Ambassadrice (Responsable) Milvia Carraux. milvia@netplus.ch \nRenseignement pour la Martinique : Ambassadrice (Responsable) Nicole Abdillahi. abd.nick@yahoo.fr \n  \nVous voulez faire connaître cet évènement dans votre église ? Pourquoi pas Ambassadrice ?  écrivez-vous à \ninscription@evenementielles.fr \nVous voulez préparer votre voyage et faire du covoiturage voici un lien à votre service : https://togetze .com/covoiturage-evenement/fzrhoy \nDifférentes listes D’hôtel  pour faire votre choix !! \nhttps://www.clermontauvergne-events.com/sites/default/files/2025-09/Book%20ho%CC%82tellerie.pdf \nhttps://www.clermontauvergnetourisme.com/nos-hebergements/nos-hotels/ \nhttps://www.kayak.fr/Clermont-Ferrand-Hotels.26467.hotel.ksp \n     Restaurants \nDe la restauration sera à votre disposition dans le HALL 1 : https://evenementielles.fr/conference-entrelles-2026/restauration/ \n  \nVous souhaitez retenir votre T-shirt spécial Entr’Elles 26 : Boutique \n                                          \n  \n  \n  \n  \n  \n  \n  \n  \nDéjà plus de 200 points de contact pour vous informer !!  \n\n\n\n\n	\n		Centre Chrétien Ethnos 48 avenue Robert Schuman\, 13100 Aix en Provence Contact : Carlyse Mynkala dcarlyse@yahoo.fr \n	\n	\n		Eglise Espoir et vie. 52\, rue des cosnes 35400 SAINT MALO Conatct : Sabrina Glodine-Florent. Sabrinaclodineflorent@gmail.com \n	\n	\n		Eglise PHAROS Rue Paul Pastur 139 Ransart\,6043\, Belgique Contact : Dina Bokoko dinabokok@gmail.com \n	\n	\n		Eglise de maison "Kol haMidbar ministries" 03800\,Gannat Contact : Lydie Mignard lydiejeann22@gmail.com \n	\n	\n		Rennes\, Ille-et-Vilaine\, Bretagne\, France métropolitaine\, France\n	\n	\n		Eglise Mission Du Plein Évangile Draveil  91210\, France Contact : Fabienne Caminade Fabienne.caminade@orange.fr \n	\n	\n		ASS. Infuse-Events 6\, rue du Vigneron 1883 Muraz. 1893\, Suisse Contact : Milvia Carreux.  milvia@infuse-events.com \n	\n	\n		ADD Grenoble 86 cours Berriat 38000 Grenoble Contact : Elisabeth Minio elisabethminio@gmail.com \n	\n	\n		Eglise Le Chandelier 33 avenue de Vizille « Bâtiment le Philadelphie » à Grenoble. Contact : Lydia Quaresenin. lydia@lechandelier.com \n	\n	\n		ADD La pépinière. 100 avenue Paul Vaillant Couturier 93200 Saint Denis Contact : Josiane Victor. victorjosiane509@gmail.com \n	\n	\n		ADD 76\, rue césar Bossy 13300 Salon-de-Provence Contacct : Gladys Annonay \n	\n	\n		ADD 550 Rue Nicéphore niépce. 83400 Hyéres Contact Myryam Fransois mfransois59@aol.com \n	\n	\n		Eglise ADD. 10 Rue du chateauvieux 82000 Montauban. Contact : Sonia Rivallin sonia.rivallin@gmail.com \n	\n	\n		Eglise ADD La chapelle Wintzenheim\, 68364 Contact : Marie-Françoise SORET. marie-francoise.soret@outlook.fr \n	\n	\n		Eglise La Citadelle 12\, rue des beaux soleils.95520 Osny France Contact : Michelle EVINA. 06 17 72 72 93 \n	\n	\n		ADD 141 bis route de Lyon 24000 Périgueux  Contact : Bonduel Myriam myriam.bdnathan@gmail.com 06 80 83 67 75   \n	\n	\n		CEEV Centre d'évangélisation Perpignan Contact : VITULIN Cyndy 06 25 28 04 22 \n	\n	\n		Momentum Sans frontière 63141 DURTOL  Contact : Beaudiment Florine  flocoud@hotmail.fr \n	\n	\n		ADD Église évangélique. 4 place Marx Dormoy 0300 MoulinsContact :  \n	\n	\n		ADD Mauves\, 1\, rue des Condamines. 07300\, France Contact : Myriam CLEMENCON 06 21 05 63 20 \n	\n	\n		Fougères\, Fougères-Vitré\, Ille-et-Vilaine\, Bretagne\, France métropolitaine\, 35300\, France\n	\n	\n		Eglise ADD Saint-Malo\,52 rue des Cosnes 35400 St Malo Contact : Sabrina Clodine-Florent sabrinaclodineflorent@gmail.com 06 59 72 69 40 \n	\n	\n		Église Évangélique 83 rue du Pontereau\, 44300 Nantes Contact : Delphine MASSE-MICHEL delphine.evenementielles@gmail.com \n	\n	\n		EVL 1556 route de Lyons 76160 st léger du bourg denis Contact : Stephanie MARTINS  manuphanie@icloud.com \n	\n	\n		Église protestante évangélique 39 rue Xavier Bichât 72000 Le Mans  Contact : DUBUISSON Catherine  catherinedubuisson06@gmail.com \n	\n	\n		Saint-Denis\, Seine-Saint-Denis\, Île-de-France\, France métropolitaine\, France \n	\n	\n		AEAC 7\, rue Gaspard Monge 81000 Albi.  Contact Lydie Navarro.  navarro.ld27@gmail.com \n	\n	\n		Église imagin’ - 5 rue de l’Est 94600 Choisy le Roi Contact : Lida Pfister pfisterlida@hotmail.fr \n	\n	\n		ADD ÉGLISE ÉVANGÉLIQUE DE CHANTELOUP-LES-VIGNES  78570\, Contact : PETIT Stéphanie addchanteloup@gmail.com \n	\n	\n		ADD Nemours\, 46 avenue carnot 77140 Nemours. Contact : Sandrine Aboughé. prunellesnemours@gmail.com  \n	\n	\n		Eglise ADD Paris Métropole Campus Torcy Espace Val Maubuée 3\, allée Nicéphore Niepce. 77200 Torcy  Contact : Véronique OKOU veronique.nicar@hotmail.fr \n	\n	\n		Eglise ADD Paris Métropole Campus Bastille. 44\, Rue de la Roquette. Paris 11e. Contact : Agnès DEMA. agnes.dema@hotmail.fr \n	\n	\n		Église imagin’ - 5 rue de l’Est 94600 Choisy le Roi  Contact : PFISTER Lida Pfisterlida@hotmail.fr \n	\n	\n		Eglise Évangélique Baptiste 35400Av de beaulieu Saint Malo  Contact : VERNEUIL Cathy. kitty.verneuil@gmail.com  \n	\n	\n		Eglise Évangélique Assemblée de Dieu\, 185\, chemin de la Brignolette 83170 Brignoles. Contact : Satta Angélique angelique.satta@hotmail.fr 06 24 87 48 76 \n	\n	\n		ADD ÉGLISE ÉVANGÉLIQUE DE CHANTELOUP-LES-VIGNES 78570 Contact : S. PETIT. addchanteloup@gmail.com \n	\n	\n		Eglise Apostolique 5 impasse des cultes 13800 Istres Contact : LOUYS Laila lailalouys@laposte.net 06.70.11.64.76 \n	\n	\n		Centre Martin Luther King 260 chemin du Saut du lièvre 30900 Nimes Contact : Alyssa Garcia.  alyssakimgarcia@gmail.com \n	\n	\n		Eglise Évangélique Assemblée de Dieu\, 185\, chemin de la Brignolette 83170 Brignoles Contact : Angélique Satta.06 24 87 48 76 \n	\n	\n		ADD Vichy 15\, rue Belin 03200 Vichy  Contact : Esther SACLIER esther.saclier@gmail.com \n	\n	\n		ADD ciel ouvert 175 rue de la roquette 76800 St Etienne du rouvray  Contact : Natacha CARTON ruahnormandie@gmail.com \n	\n	\n		Église La Rencontre\, 441 avenue Marguerite Perey\, Lieusaint  77127 Contact : Audrey Salafranque audrey.salafranque@eglisehorizon.fr  \n	\n	\n		ÉGLISE NOVATION 717 av Gaillard\, 47000 AGEN Contact : Marie Claire BUIS mcbuis47@gmail.com 06 23 36 35 83 \n	\n	\n		CLE 210 rue du Puech radier Lattes 34970\, France Contact : Monte Shélomie.  mls34770@hotmail.com 06 70 77 60 73 \n	\n	\n		Église Aime 223 Rue Henri Poincaré\, 83000 Toulon Contact : Montuori Laurence  06 16 69 32 87 \n	\n	\n		Eglise Apostolique 2 rue du Moulin Enragé 76170 Lillebonne  Contact : Rosay Patricia patriciayvesrosay@gmail.com 06 49 57 41 96 \n	\n	\n		Unity antibes ADD Contact : TRELA Marion lerda_marion@hotmail.com 06 99 26 82 13 \n	\n	\n		Église Nouvelle Vie Dieppe\, 23 avenue Jean Jaurès 76200 Dieppe Contact : PFISTER Diana eglisenouvelleviedieppe@gmail.com 07 60 08 16 57 \n	\n	\n		ADD Beauvais 56 rue Alfred Dancourt 60000 Beauvais Contact : OLLON Sarah tcommtoi@gmail.com 06 61 20 08 70 \n	\n	\n		Église RENAISSANCE 33 Rue Marie Rose 60800 CRÉPY EN VALOIS  Contact : NDODJIN KOSSI Hélène kodav@hotmail.fr 07 61 77 39 44 \n	\n	\n		Église EVIDENCE 9 avenue des Iris\, 93370 MONTFERMEIL  Contat : NAZAIRE Ginette ginettenazaire83@gmail.com 06 26 69 81 34 \n	\n	\n		Eglise Arena Toulouse. 9 rue Louis-Francois Lejeune 31000 Toulouse  Contact : NANA-GASSA-GONGA LUCILE lucile@eglisearena.com 0644844858 \n	\n	\n		Ceev le Mans: 12 Avenue du général Leclerc 72000 le Mans Contact : MAKINDI Madeleine mezenemade@yahoo.fr 06 72 12 14 37 \n	\n	\n		ÉGLISE évangélique protestante de Montreuil Nation (EEPMN)\, 136 bis Rue Etienne Marcel 93100 Montreuil  Contact : K. Mary-Nice naicykondr@gmail.com  \n	\n	\n		Ipso Nation\, 73\, Rue de Montreuil\, Quartier Sainte-Marguerite\, Paris 11e Arrondissement\, Paris\, France métropolitaine\, 75011\, France\n	\n	\n		Eglise Connexion 53 avenue de Sully 93190 Livry-Gargan Contact :JOSEPH-REINETTE Claire clairebernadac@hotmail.com 0661765078   \n	\n	\n		New Life Roanne 36 rue Alfred de Musset 42300 Roanne Contact :HEYSE Anne  heyseanne@gmail.com 07 59 69 06 06 \n	\n	\n		Eglise Evangélique EssenCiel\, 95190 Goussainville Contact:GLANDOR Sophia sophia.glandor@egliseessenciel.com  \n	\n	\n		Eglise Le Bon Berger 215 avenue du Président Wilson 93210 Saint Denis Contact : CUQUEJO Noemie noemie.cuquejo@gmail.com  \n	\n	\n		Cnetre chrétien Mantes la jolie CCM\, 35-37 rue des Garennes Mantes-la-Jolie 78200 Contact : Sulpice Odile  07 82 75 74 04 \n	\n	\n		ACBM 12A rue du Port 90850 Essert Contact : FRANÇOIS Blandine blandine.francois1@gmail.com 06 33 46 04 05 \n	\n	\n		Église Évangélique Espoir et Vie44 Rue du 11 Novembre 1918 76500 ELBEUF Contact : Barbier Hélène  06 60 07 91 91 \n	\n	\n		Chambéry\, Savoie\, Auvergne-Rhône-Alpes\, France métropolitaine\, 73000\, France\n	\n	\n		Eglise evangélique Add. 1 impasse des frères lumières 38230 Chavanoz  Contact BATTISTA Caroline. caroline.battista@gmail.com \n	\n	\n		Église perspectives 39 rue Robert petit 80130 Rivery Contact : Alouane kathie  06 89 65 26 72 \n	\n	\n		EGST ÉGLISE GOLFE ST TROPEZ 138 avenue Vega ZA du grand pont 83310 GRIMAUD Contact : Costa nadine eglisedugolfe@gmail.com 06 12 57 19 68 \n	\n	\n		Eglise IMPACT FRAMERIES Rue de l'église 13. 7080 Frameries \, Wallonie\, Belgique Contact : Bordenca Sabrina sabrina.bordenca@outlook.be   \n	\n	\n		Eglise Evangélique Add. 6\, rue de la Madone 38550 Le Péage de Roussillon Contact : Myriam Mifoundou. femmeschretiennes.rab@gmail.com    \n	\n	\n		Église le phare 15 Chemin du Pont Long\, 64140 Lons   Contact : Mercia Miyimi. merciamboungou@yahoo.fr 06 18 30 08 57 \n	\n	\n		Eglise ADD  56 rue Alfred Dancourt 60000 Beauvais  Contact : OLLON Sarah tcommtoi@gmail.com 06 61 20 08 70 \n	\n	\n		Eglise évangéliques ADD de Cahors 100 chemin du club hippique 46000  Contact : Bonnet Gwénaëlle gwenaelle_bonnet@orange.fr 07 81 78 88 91 \n	\n	\n		Jesusliebtdich e.V. Kleine Köhlergasse 5 61169 Friedberg (Hessen) Allemagne Contact : Laure Amvame laurykono@gmail.com 004917675890632 \n	\n	\n		Eglise Pleine Vie\, 4 bis bd Jean Jaurès\, 42160 Andrézieux-Bouthéon Contact : Collard Pamela contact.pamelacollard@gmail.com 06 72 85 52 37 \n	\n	\n		Église Mantes en Yvelines 15 rue du docteur Roux 78200 Mantes-la-Jolie. Contact : Mirlande SAINTE CLAIRE. mirlande.sainte.claire@gmail.com  06 62 03 54 65 \n	\n	\n		Acfe Renaissance\, rue delatre 23\,6140 fontaine l'évêque. Wallonie\, Belgique Contact : Cordova katia. cordova.katia@hotmail.com 0477575878 \n	\n	\n		Nouvelle Saison Gosselies Hôtel Van Der ValkCharleroi airport115\, Chaussée de Courcelles 6041 Gosselies (Charleroi) Contact : Taubmann Giacomini Kristel.  Kristelgiacominî.ns@gmail.com 0496486834 \n	\n	\n		Centre évangélique Restauration et Vie 14\, Rue des Bois Rochefort - 78500 Sartrouville Contact : Likibi Ketly. cerev.secretariat@gmail.com  \n	\n	\n		EPES-LA SOURCE 3 rue des marguerites 77420 Champs sur Marne Contact : Amedien Murielle mf.deloumeaux@free.fr  \n	\n	\n		Église Vie Nouvelle 27 quai Carnot\, 49400 Saumur Contact : Laïna MONJA Lainamonja@yahoo.com  \n	\n	\n		Eglise Evangélique ADD Grenoble 86 cours Berriat 38000 Grenoble  Contact : Minio Elisabeth elisabethminio@gmail.com 06 89 89 18 57 \n	\n	\n		Église En Action 29 boulevard Karl Marx 95100 Argenteuil  Contact : Makita Samuelle Information@eglisenaction.fr 06 75 42 85 75 Contact : KITT KITT Evelyne. +33 6 16 77 84 66 \n	\n	\n		Momentum. 75 rue Edouard Herriot\, 33310 Lormont. Contact : A venir \n	\n	\n		Centre MLK Rue du Halage\, 40\, 4920 Sougné-Remouchamps Belgique Contact : CLARK Monica. wow1cor13@gmail.com 32 49 31 75 500 \n	\n	\n		Eglise ADD Paris Métropole campus Montparnasse\, 40 rue du commandant René Mouchotte 75014 Paris Contact : Tennessee ADJELOU adjelou.tennessee@gmail.com \n	\n	\n		Eglise Evangélique ADD. 11 rue de la cotonnière 14000 caen Contact : Besnard Viviane. vivibesnard@free.fr 06 49 22 70 75 \n	\n	\n		Eglise du Thabor \, 13 rue Martenot 35000 RENNES Contact : Lambert Christine christine.b.lambert@gmail.com 06 41 50 68 14 \n	\n	\n		Région du centre \, La Louvière\, Hainaut 7100 Belgique  Contact : Emma Itoua Courbe. emma.itouaolea@gmail.com 0032498759629 \n	\n	\n		Eglise Evangélique Source de Vie 59 rue Nicolas Appert. 87280 Limoges Contact : A venir  \n	\n	\n		Eglise Valley du Cailly. 1 Sente aux Loups 76150 Maromme  Contact : Kasonga Félistas fkasonga@yahoo.fr 06 51 29 28 62 \n	\n	\n		Eglise Paris Métropole 44\, rue de la Roquette Paris 11eme  Contact : A venir. \n	\n	\n		Ambassade MLK 67 route de Siccieu 38460 Annoisin  France Contact : MOTTA Mimi mimimotta.perso@gmail.com  \n	\n	\n		Église Connexion vie. 77950 Maincy  ontact : Anne Majdling anne77950@gmail.com 0651718535 \n	\n	\n		Église Évangélique du Littoral à Saint-Pol-Sur-Mer (DUNKERQUE) 59430  Contact : COLAT Michelle-Karine mk.colat@gmail.com 06 27 68 35 01 \n	\n	\n		Association Honneur Aux Femmes35 chaussée Jules cesar\, 95130 Franconville   Contact : DONGMO Romarique honneurauxfemmesevent@gmail.com    \n	\n	\n		Eglise Zoé 11 chemin du Pascuralou 43010 Le Chambon sur lignon  Contact : Rocher Carmen rocher84@yahoo.fr 0684590141 \n	\n	\n		Église Évangélique Nouvelle Saison 74 rue de la Bombarde62131 VERQUIN (Près de BÉTHUNE)  Contact : LEBOUC Myriam myriam.lebouc@gmail.com 06 10 23 32 11   \n	\n	\n		Porte ouverte chrétienne de Mulhouse 62 rue de Kingersheim 68200 Mulhouse  Contact : Lormier Claire maseroclaire@yahoo.fr 06 82 16 06 23 \n	\n	\n		ADD Eglise Protestante Évangélique  27 rue du père heude 35300 Fougères  Contact : LAMINE BÉATRICE blamine@orange.fr Contact : Naoussi Anne Claire anneclaire.talbourdet@gmail.com 0780470711 \n	\n	\n		ÉGLISE ÉVANGÉLIQUE PROTESTANTE 8 rue du Mont Gargan 76000 Rouen Contact : Munyabugingo ANNONCIATA reneshimwa@yahoo. fr 0617388487 \n	\n	\n		Église Vie&Paix 14 Rue Charles de Gaulle\, 91400 Orsay Contact : Lemba Tania lembatania@gmail.com 06 17 19 06 11   \n	\n	\n		Espoir et Vie 166 rue Fontchaudière 16000 Angoulême  Contact :Myriam Louis-Faure myriam.stephane@gmail.com 07 85 69 52 74 \n	\n	\n		Association le pouvoir de la femme: 7 Rue du Pré perché 35000. Rennes Contact :  MBONGO MOMBO Carine                                             pouvoirdelafemme@gmail.com 07 53 20 80 82 \n	\n	\n		Association Ruah'Unity 10 rue Camille Saint Saens 76410 Tourville la rivière Contact : Natacha Carton ruahnormandie@gmail.com 06 67 12 52 12 \n	\n	\n		EGLISE NICE METROPOLE 366 avenue des Plantiers 06700 ST LAURENT DU VAR Contact : Sandrine Martinez. sandrine.evenementielles@gmail.com  06 29 79 82 39 \n	\n	\n		115 impasse du Ponant 83160 La Valette du Var Contact : Ruiz Nadine contact@egliseprovidence.fr 07 69 90 88 21 \n	\n	\n		MLK GRAND PARIS - 94000 CRETEIL Contact : QUERUEL Sylvie sylvie95.evenementielles@gmail.com  06 18 85 95 56 \n	\n	\n		Eglise Évangélique Baptiste Av de beaulieu Saint Malo  35400\,  Contact : Cathy Verneuil Kitty.verneuil@gmail.com 06 28 08 33 92 \n	\n	\n		Église Espoir 14\, rue Maxime Gorki 42800 Rive-De-Gier Contact : Faure Adeline adelgiulia@gmail.com 06 34 58 55 36 \n	\n	\n		Église évangélique - nouveau souffle - 12 chemin du trou Samson 95150 TAVERNY Contact : THEOPHILE Nicole nicole1912@msn.com 06 50 60 19 34 \n	\n	\n		Eglise Renaissance \, 58 rue de la République 95270 Chaumontel Contact : LUPAKA NANGA Jeanic jeanyck@yahoo.fr 06 66 90 92 83 \n	\n	\n		Église ADD 16 rue Sainte Anne 41000 Blois Contact : KOUTONDI Romane r.koutondi@gmail.com 06 01 09 83 68 \n	\n	\n		Église protestante évangélique de Laval 4 boulevard Louis Armand 53940 st berthevin Contact : VERROY Virginie  06 27 70 14 71 \n	\n	\n		ADD Istres chemin du Rouquier 13800 Istres Contact : Trebuchon Patricia aglowprieres@gmail.com 06 03 72 10 03 \n	\n	\n		Église Évangélique de Guéret 9 B place Bonnyaud 23000 GUÉRET  Contact : Schulz Marie Hélène mariehschulz58@gmail.com 06 17 17 14 87 \n	\n	\n		CEP (Centre Evangélique Protestant) - 24\, Rue Bourneil -89000 AUXERRE Contact : Corine RIVIERE contacts@cep-auxerre.com 06 85 47 22 02 \n	\n	\n		Églises de maisons 30230 Rodilhan (pres de nimes) Contact :  Charbonnier Anyk  anyk.charbonnier@orange.fr  06 63 57 42 69    \n	\n	\n		Eglise ADD. 100 chemin du club hippique 46000 Cahors  Contact : Bonnet Gwénaëlle gwenaelle_bonnet@orange.fr 07 81 78 88 91 \n	\n	\n		Eglise évangélique 15 rue du 8 Mai 63500 ISSOIR Contact : MALLET Pascale pascalefontan63@gmail.com 06 31 75 57 02 \n	\n	\n		Église Siloe. 73000 Chambery Contact : Anne bourgoin.  bourgoin.anne@wanadoo.fr 06 64 98 39 66 \n	\n	\n		Église Lille Métropole\, 16 rue du Molinel\, 59290 Wasquehal (Lille)  Contact : RÄTZ Laura. ratzlaura1993@gmail.com 06 09 07 75 15 Contact : PISCADOR Marine marine.piscador@gmail.com 06 43 58 56 16 \n	\n	\n		Eglise Evangélique 461 route d'Yvetot 76490 Louvetot Contact : VALLE Coraline. vallecoraline@gmail.com 06 24 75 32 84 Contact : Christa Bunel christa.evenementielles@gmail.com 06 15 06 78 32 \n	\n	\n		Eglise Aime. 223 avenue Poincaré 83000 Toulon Contact : Lynda Lerochus. contact.evenmentielles@gmail.com 06 61 76 55 03 \n	\n	\n		EPEE 40 route du Mazet 43400 Le Chambon sur Lignon Contact : Bollon Christine. cbollon@orange.fr. 06 14 24 91 63 \n	\n	\n		Eglise évangélique Baptiste CEP19 bd de Bezons. 75000 SARTROUVILLE Contact : Marlène Ferreira. mardsf78@gmail.com  Contact : Edna VAL edna.mary0209@gmail.com  \n	\n	\n		Église sources vives 38 quarter rue François de Tessan 77100 Meaux  Contact :  Paisley Miguelle. mimip972@hotmail.fr. 06 64 84 35 95  \n	\n	\n		Eglise Evangelique ADD \, Impasse du Rouquier 13800 Istres Contact : Hétroit Cristina. mapecrisli@gmail.com 06 42 83 27 79
URL:https://evenementielles.fr/evenements/entrelles-26/
CATEGORIES:01 Auvergne Rhône Alpes,RENCONTRES Evenementielles
ATTACH;FMTTYPE=image/png:https://evenementielles.fr/wp-content/uploads/2025/05/1-A3-AFFICHE-PERSEVERE.png
END:VEVENT
END:VCALENDAR