BEGIN:VCALENDAR
VERSION:2.0
PRODID:-//Evenementielles - ECPv6.15.20//NONSGML v1.0//EN
CALSCALE:GREGORIAN
METHOD:PUBLISH
X-ORIGINAL-URL:https://evenementielles.fr
X-WR-CALDESC:Évènements pour Evenementielles
REFRESH-INTERVAL;VALUE=DURATION:PT1H
X-Robots-Tag:noindex
X-PUBLISHED-TTL:PT1H
BEGIN:VTIMEZONE
TZID:Europe/Paris
BEGIN:DAYLIGHT
TZOFFSETFROM:+0100
TZOFFSETTO:+0200
TZNAME:CEST
DTSTART:20240331T010000
END:DAYLIGHT
BEGIN:STANDARD
TZOFFSETFROM:+0200
TZOFFSETTO:+0100
TZNAME:CET
DTSTART:20241027T010000
END:STANDARD
BEGIN:DAYLIGHT
TZOFFSETFROM:+0100
TZOFFSETTO:+0200
TZNAME:CEST
DTSTART:20250330T010000
END:DAYLIGHT
BEGIN:STANDARD
TZOFFSETFROM:+0200
TZOFFSETTO:+0100
TZNAME:CET
DTSTART:20251026T010000
END:STANDARD
BEGIN:DAYLIGHT
TZOFFSETFROM:+0100
TZOFFSETTO:+0200
TZNAME:CEST
DTSTART:20260329T010000
END:DAYLIGHT
BEGIN:STANDARD
TZOFFSETFROM:+0200
TZOFFSETTO:+0100
TZNAME:CET
DTSTART:20261025T010000
END:STANDARD
END:VTIMEZONE
BEGIN:VEVENT
DTSTART;TZID=Europe/Paris:20250927T090000
DTEND;TZID=Europe/Paris:20250927T113000
DTSTAMP:20260422T121838
CREATED:20250827T092728Z
LAST-MODIFIED:20250827T093504Z
UID:37216-1758963600-1758972600@evenementielles.fr
SUMMARY:Petit-déjeûner pour femmes : Un café ? Une prière ? SUISSE
DESCRIPTION:évènement: Petit-déjeûner pour femmes : Un café ? Une prière ?\nAdresse : EECC – 71\, chemin de Marjolin Aigle 1860 Suisse\nDate : 27.09.25\nHeure : 09.00 – 11.30\nType : Autre\nTarifs Entrée libre – Collecte\nContact : Milvia // info@infuse-events.com // infuse-events.com \nDétails supplémentaires :\n☕✨ Petit-déjeuner pour femmes ✨☕\n📌 Thème : « Un café ? Une prière ? » \n📅 Samedi 27 septembre 2025\n⏰ 09h00 – 11h30\n📍 Église évangélique de Châble Croix\nChemin de Marjolin 71\, 1860 Aigle \n💜 Un moment de partage entre femmes autour d’un bon café\, d’un délicieux petit-déjeuner et de la prière 🙏.\nEntrée libre – collecte. \n🎉 Invite une amie et viens vivre ce temps d’encouragement et de convivialité !\nInscriptions: info@infuse-events.com
URL:https://evenementielles.fr/evenements/petit-dejeuner-pour-femmes-un-cafe-une-priere-suisse/
CATEGORIES:Suisse
ATTACH;FMTTYPE=image/jpeg:https://evenementielles.fr/wp-content/uploads/2025/08/29.09.-Milvia-Un-cafe-une-priere.jpg
END:VEVENT
END:VCALENDAR