BEGIN:VCALENDAR
VERSION:2.0
PRODID:-//Evenementielles - ECPv6.15.20//NONSGML v1.0//EN
CALSCALE:GREGORIAN
METHOD:PUBLISH
X-WR-CALNAME:Evenementielles
X-ORIGINAL-URL:https://evenementielles.fr
X-WR-CALDESC:Évènements pour Evenementielles
REFRESH-INTERVAL;VALUE=DURATION:PT1H
X-Robots-Tag:noindex
X-PUBLISHED-TTL:PT1H
BEGIN:VTIMEZONE
TZID:Europe/Paris
BEGIN:DAYLIGHT
TZOFFSETFROM:+0100
TZOFFSETTO:+0200
TZNAME:CEST
DTSTART:20250330T010000
END:DAYLIGHT
BEGIN:STANDARD
TZOFFSETFROM:+0200
TZOFFSETTO:+0100
TZNAME:CET
DTSTART:20251026T010000
END:STANDARD
BEGIN:DAYLIGHT
TZOFFSETFROM:+0100
TZOFFSETTO:+0200
TZNAME:CEST
DTSTART:20260329T010000
END:DAYLIGHT
BEGIN:STANDARD
TZOFFSETFROM:+0200
TZOFFSETTO:+0100
TZNAME:CET
DTSTART:20261025T010000
END:STANDARD
BEGIN:DAYLIGHT
TZOFFSETFROM:+0100
TZOFFSETTO:+0200
TZNAME:CEST
DTSTART:20270328T010000
END:DAYLIGHT
BEGIN:STANDARD
TZOFFSETFROM:+0200
TZOFFSETTO:+0100
TZNAME:CET
DTSTART:20271031T010000
END:STANDARD
END:VTIMEZONE
BEGIN:VEVENT
DTSTART;TZID=Europe/Paris:20260530T083000
DTEND;TZID=Europe/Paris:20260530T170000
DTSTAMP:20260421T234631
CREATED:20260105T191754Z
LAST-MODIFIED:20260105T191754Z
UID:38234-1780129800-1780160400@evenementielles.fr
SUMMARY:Ladiesfirst Conférence. Suisse
DESCRIPTION:évènement: Ladiesfirst Conférence\nAdresse : La Marive\, Quai de Nogent 1 Yverdon-les-Bains 1400 Suisse\nDate : 30 mai 2026\nHeure : 8h30-17h00\nType : Journée\nTarifs 50 CHF / 50 EUROS\nContact : Sophie Bernard // ladiesfirstmouvement@gmail.com // www.ladiesfirst-conference.com \nDétails supplémentaires :\nConférence LIONNES\nLes lionnes. Elles oeuvrent en meute pour conquérir le territoire. Elles défendent leur terre\, protègent les leurs et assurent la relève. Le lion leur fait confiance. Et elles rugissent. \nLe samedi 30 mai 2026\, nous découvrirons comment être « unies par un même esprit\, luttant ensemble d’un même coeur\, sans nous laisser intimidées en rien par les adversaires. La force et la splendeur nous servant de parure\, fortifiées dans le Seigneur. » (Philippiens 1 : 27-28\, Proverbes 31 : 25\, Ephésiens 6 : 10)\nNous allons nous lever comme des LIONNES pour tous les domaines de nos vies. \nNous aurons la joie d’avoir Pasteure Jo – Johanna Exbrayat\, et Sophie Bernard comme oratrices principales. \nLe mouvement Ladiesfirst oeuvre à amener chaque femme à connaître Jésus\, à être établie dans sa nouvelle identité en Lui et à marcher dans sa magnifique destinée. Les conférences sont profondes\, belles\, variées\, dynamiques et inoubliables. À ne pas manquer !
URL:https://evenementielles.fr/evenements/ladiesfirst-conference-suisse/
CATEGORIES:Suisse
ATTACH;FMTTYPE=image/jpeg:https://evenementielles.fr/wp-content/uploads/2026/01/FLYERS-LF-2026.jpg
END:VEVENT
END:VCALENDAR